BEGIN:VCALENDAR
VERSION:2.0
PRODID:-//From Mug to Mike - ECPv5.1.1//NONSGML v1.0//EN
CALSCALE:GREGORIAN
METHOD:PUBLISH
X-WR-CALNAME:From Mug to Mike
X-ORIGINAL-URL:https://www.frommugtomike.com
X-WR-CALDESC:Events for From Mug to Mike
BEGIN:VTIMEZONE
TZID:Asia/Kolkata
BEGIN:STANDARD
TZOFFSETFROM:+0530
TZOFFSETTO:+0530
TZNAME:IST
DTSTART:20150101T000000
END:STANDARD
END:VTIMEZONE
BEGIN:VEVENT
DTSTART;TZID=Asia/Kolkata:20150617T100000
DTEND;TZID=Asia/Kolkata:20150618T190000
DTSTAMP:20260423T212751
CREATED:20150616T035904Z
LAST-MODIFIED:20150616T035904Z
UID:936-1434535200-1434654000@www.frommugtomike.com
SUMMARY:Audition Finals - From Mug to Mike Music Fest - 2015
DESCRIPTION:Finalists from Belagavi\, Mysuru\, Hubballi and Bengaluru will compete in the finals happening on June 17 & 18\, 2015. \n
URL:https://www.frommugtomike.com/event/audition-finals-from-mug-to-mike-music-fest-2015/
LOCATION:Phoenix MarketCity\, Whitefield\, Bengaluru\, India
END:VEVENT
END:VCALENDAR