BEGIN:VCALENDAR
VERSION:2.0
PRODID:-//From Mug to Mike - ECPv5.1.1//NONSGML v1.0//EN
CALSCALE:GREGORIAN
METHOD:PUBLISH
X-WR-CALNAME:From Mug to Mike
X-ORIGINAL-URL:https://www.frommugtomike.com
X-WR-CALDESC:Events for From Mug to Mike
BEGIN:VTIMEZONE
TZID:Asia/Kolkata
BEGIN:STANDARD
TZOFFSETFROM:+0530
TZOFFSETTO:+0530
TZNAME:IST
DTSTART:20210101T000000
END:STANDARD
END:VTIMEZONE
BEGIN:VEVENT
DTSTART;TZID=Asia/Kolkata:20210808T100000
DTEND;TZID=Asia/Kolkata:20210905T120000
DTSTAMP:20260423T134948
CREATED:20210804T141013Z
LAST-MODIFIED:20210804T143658Z
UID:2090-1628416800-1630843200@www.frommugtomike.com
SUMMARY:Bathroom Singers Online Bootcamp
DESCRIPTION:http://www.frommugtomike.com/wp-content/uploads/2021/08/VID_20210804_061713_1.mp4\nAre You a Bathroom Singer? \nClick To Register! \nA specially designed 5 session weekend only program to Jump Start Your Singing Journey! \nMost of your voice problems could be simply because you are blindly imitating your favorite singer! Most amateur singers just copy superficially. It is important to study techniques that great singers use\, and then sing in your Own Real Voice! \nThe full 5 session program + A Bonus One on One Session with the Coach is available at a special introductory offer of Rs 2999/- Only!  \nClick To Register Now! \nBathroom Singers Bootcamp is a unique program to help all enthusiastic aspiring singers discover their real voice\, learn vocal techniques and exercises to realize their dreams of becoming a good singer! \nThe program has 5 sessions scheduled on Sundays : Aug 8 – Sep 5\, 2021 from 10:00 AM to 12 :00 Noon IST + A special One on One with the Coach \n✓ 1 – Introduction to Music and Basics of Singing  (Session 1 – Aug 8) \n• An overview of Indian Music System (Hindustani and Carnatic) and understanding it’s relevance for a singer \n• Understand basics of singing and the good qualities that you as a singer should possess \n• Understanding musical terms and jargon that a singer needs to know \n✓ 2- Understand your Voice and Discover your Real Voice (Session 2 – Aug 15) \n• Most amateur singers use wrong techniques and imitate other singers which restrict their singing capabilities and hinders development as a singer. Learn the right way to sing and discover your own real voice \n✓ 3 – Learning a Song – An Approach (Session 3 – Aug 22) \n• How do you learn a song? Let’s discover!  \n• Explore\, appreciate and learn the nuances of a song. This will be demonstrated with two songs \n✓ 4 – One on One with the Coach (*A Special Bonus Session ) \n• One on one session (video call) for 30 minutes is a special session with the coach. The participant can sing a song\, and will get personal feedback and input to work on. \n• This session will be scheduled after discussion with the participant \n✓ 5 – Introduction to Voice Culture and Voice Exercises – Part A (Session 4 – Aug 29) \n•Understanding the qualities of a great voice and learn basic exercises to gradually develop a phenomenal voice \n✓ 6 – Voice Exercises – Part B  (Session 5 – Sep 5) \n• Learn advanced voice exercises to work and improve different aspects of the voice and singing (range\, breath control\, stability of voice\, speed\, nuances\, etc)  \n• Understand the importance of using an instrument like harmonium or keyboard to support your singing practice \n\nEach session duration is 2 hours\nThe Zoom login details of the session will be emailed to you on Aug 7\,2021\nAll sessions are Live\, no recordings are available\nAfter each session you will recieve your Worksheet \n\nClick To Register  \n
URL:https://www.frommugtomike.com/event/bathroom-singers-online-bootcamp/
LOCATION:online
ORGANIZER;CN="From%20mug%20to%20mike":MAILTO:frommugtomike@gmail.com
END:VEVENT
END:VCALENDAR