BEGIN:VCALENDAR
VERSION:2.0
PRODID:-//From Mug to Mike - ECPv5.1.1//NONSGML v1.0//EN
CALSCALE:GREGORIAN
METHOD:PUBLISH
X-WR-CALNAME:From Mug to Mike
X-ORIGINAL-URL:https://www.frommugtomike.com
X-WR-CALDESC:Events for From Mug to Mike
BEGIN:VTIMEZONE
TZID:UTC
BEGIN:STANDARD
TZOFFSETFROM:+0000
TZOFFSETTO:+0000
TZNAME:UTC
DTSTART:20160101T000000
END:STANDARD
END:VTIMEZONE
BEGIN:VEVENT
DTSTART;TZID=UTC:20160501T100000
DTEND;TZID=UTC:20160501T143000
DTSTAMP:20260423T161323
CREATED:20160415T234408Z
LAST-MODIFIED:20160415T234408Z
UID:1055-1462096800-1462113000@www.frommugtomike.com
SUMMARY:Bathroom Singers Workshop
DESCRIPTION:A workshop designed for anyone who LOVES to SING!\nNo prior training required.AGE no BAR.\nYou can sing in any language/genre.\nTo register\, WhatsApp/Call/Message on 7899262262\nWrite to us at FromMugToMike@gmail.com \n  \n  \n
URL:https://www.frommugtomike.com/event/bathroom-singers-workshop-2/
LOCATION:Sa Studio\, Thyagarajnagar\, near Shani Mahatma Temple\, Bangalore\, Karnataka\, India
END:VEVENT
END:VCALENDAR