BEGIN:VCALENDAR
VERSION:2.0
PRODID:-//From Mug to Mike - ECPv5.1.1//NONSGML v1.0//EN
CALSCALE:GREGORIAN
METHOD:PUBLISH
X-WR-CALNAME:From Mug to Mike
X-ORIGINAL-URL:https://www.frommugtomike.com
X-WR-CALDESC:Events for From Mug to Mike
BEGIN:VTIMEZONE
TZID:UTC
BEGIN:STANDARD
TZOFFSETFROM:+0000
TZOFFSETTO:+0000
TZNAME:UTC
DTSTART:20170101T000000
END:STANDARD
END:VTIMEZONE
BEGIN:VEVENT
DTSTART;TZID=UTC:20171008T093000
DTEND;TZID=UTC:20171008T143000
DTSTAMP:20260423T161344
CREATED:20170912T031234Z
LAST-MODIFIED:20170925T005239Z
UID:1220-1507455000-1507473000@www.frommugtomike.com
SUMMARY:Bathroom Singers Workshop - Bengaluru
DESCRIPTION:‘From Mug to Mike’ primer workshop is an introduction to professional singing.\nYou will be introduced to: \n \n\nThe most important qualities that a professional singer should develop\nTips and tricks of professional singing\nMisconceptions and myths about singing\nProblems that singers generally face while singing\nHow to get over stage fright?\nRecording in a studio – techniques\n\n\nWhat are the prerequisites? \nOn a lighter note\, the ONLY prerequisite is that you should have sung at least once in the bathroom!This workshop is for anybody who loves to sing. \n \nIs there an age limit? \nNo\, there is no age limit. We have had participants ranging from 5 to 83! \nChuck the Mug\, Grab the Mike! \nYou will get to record one full song of your choice (without music) in the high end studio.\nYou will also be taught few voice exercises to improve your singing and voice. \nHow Do I sound when I Sing? \nYour recording along with a very detailed analysis of your voice and singing\, highlighting your strengths and identifying the areas for improvement will be emailed to you after the workshop. \nLunch will be served. \nClick on the below link to register: \nhttps://tinyurl.com/y7b7cpa7 \nIf you have any questions\, feel free to call us on 7899262262 or drop an email at FromMugToMike@gmail.com \n
URL:https://www.frommugtomike.com/event/bathroom-singers-workshop-bengaluru/
LOCATION:Vijaya Audios\, No. 52\, Shankara Park\, Ranga Rao Road\, Bengaluru\, \, Karnataka\, India
END:VEVENT
END:VCALENDAR