BEGIN:VCALENDAR
VERSION:2.0
PRODID:-//From Mug to Mike - ECPv5.1.1//NONSGML v1.0//EN
CALSCALE:GREGORIAN
METHOD:PUBLISH
X-WR-CALNAME:From Mug to Mike
X-ORIGINAL-URL:https://www.frommugtomike.com
X-WR-CALDESC:Events for From Mug to Mike
BEGIN:VTIMEZONE
TZID:Asia/Kolkata
BEGIN:STANDARD
TZOFFSETFROM:+0530
TZOFFSETTO:+0530
TZNAME:IST
DTSTART:20180101T000000
END:STANDARD
END:VTIMEZONE
BEGIN:VEVENT
DTSTART;TZID=Asia/Kolkata:20180311T093000
DTEND;TZID=Asia/Kolkata:20180311T143000
DTSTAMP:20260423T134836
CREATED:20180311T042529Z
LAST-MODIFIED:20180311T042529Z
UID:1621-1520760600-1520778600@www.frommugtomike.com
SUMMARY:Bathroom Singers Workshop - Level 1
DESCRIPTION:pen to anyone who loves to SING! Age no bar! You can sing in any genre and language! \n‘From Mug to Mike’ primer workshop is an introduction to professional singing.\nYou will be introduced to: \n>The most important qualities that a professional singer should develop\n> Tips and tricks of professional singing\n> Misconceptions and myths about singing\n> Problems that singers generally face while singing\n> How to get over stage fright?\n> Recording in a studio and techniques \n>> What are the prerequisites?\nOn a lighter note\, the ONLY prerequisite is that you should have sung at least once in the bathroom!This workshop is for anybody who loves to sing. \n>> Is there an age limit?\nNo\, there is no age limit. We have had participants ranging from 5 to 83! \n>> Chuck the Mug\, Grab the Mike!\nYou will get to record one full song of your choice (without music) in the high end studio.\nYou will also be taught few voice exercises to improve your singing and voice. \n>> How Do I sound when I Sing?\nYour recording along with a very detailed analysis of your voice and singing\, highlighting your strengths and identifying the areas for improvement will be emailed to you after the workshop. \n>> Will other participants hear me while I record my song?\nNo\, each participant gets to record in private. \n>>What Preparations do I need? \n1) Please come prepared to record a song of your choice (any language) without music. This is to understand your voice better. \n2) Carry the lyrics of the song you wish to record\, if required \n3) A note book and a pen to make notes \n4) A water bottle \nEmai ID: FromMugToMike@gmail.com\nMobile: 7899262262 \n
URL:https://www.frommugtomike.com/event/bathroom-singers-workshop-level-1/
LOCATION:Vijaya Audios\, No. 52\, Shankara Park\, Ranga Rao Road\, Bengaluru\, \, Karnataka\, India
ORGANIZER;CN="From%20mug%20to%20mike":MAILTO:frommugtomike@gmail.com
END:VEVENT
END:VCALENDAR