BEGIN:VCALENDAR
VERSION:2.0
PRODID:-//From Mug to Mike - ECPv5.1.1//NONSGML v1.0//EN
CALSCALE:GREGORIAN
METHOD:PUBLISH
X-WR-CALNAME:From Mug to Mike
X-ORIGINAL-URL:https://www.frommugtomike.com
X-WR-CALDESC:Events for From Mug to Mike
BEGIN:VTIMEZONE
TZID:UTC
BEGIN:STANDARD
TZOFFSETFROM:+0000
TZOFFSETTO:+0000
TZNAME:UTC
DTSTART:20170101T000000
END:STANDARD
END:VTIMEZONE
BEGIN:VEVENT
DTSTART;TZID=UTC:20170806T100000
DTEND;TZID=UTC:20170806T160000
DTSTAMP:20260423T161344
CREATED:20170713T012336Z
LAST-MODIFIED:20170725T053919Z
UID:1210-1502013600-1502035200@www.frommugtomike.com
SUMMARY:Bathroom Singers Workshop - Mumbai
DESCRIPTION:\nOpen to anyone who Loves to Sing! All age groups can participate. You can sing/record a song in any genre and language. No prior training required!\n\n\n \n\n\n\n\n\n \n\n\nFrom Mug to Mike’ primer workshop is an introduction to professional singing.\n\n\nYou will be introduced to: \n\n\n> The most important qualities that a professional singer should develop\n\n\n> Tips and tricks of professional singing\n\n\n> Misconceptions and myths about singing\n\n\n> Problems that singers generally face while singing\n\n\n> How to get over stage fright?\n\n\n> Tour of a high-end recording studio \n\n\n> Recording in a studio and techniques\n\n\n> Voice Culture techniques\n> Voice Analysis\n\n\n \n\n\nParticipants will get to record a song of their choice in their voice and analysis of the same.\n\n\n \n\n\nLot of singing\, lot of fun!\n\n\n \n\n\nLunch\, tea and snacks will be provided during the workshop.\n\n\n \n\n\nBook your seat now! Click on the link below for payment details.\n\nhttps://tinyurl.com/yda454j8\n\nIf you have any questions\, call us on 7899262262 (or) email: FromMugToMike@gmail.com\n\n
URL:https://www.frommugtomike.com/event/bathroom-singers-workshop-mumbai/
END:VEVENT
END:VCALENDAR