BEGIN:VCALENDAR
VERSION:2.0
PRODID:-//From Mug to Mike - ECPv5.1.1//NONSGML v1.0//EN
CALSCALE:GREGORIAN
METHOD:PUBLISH
X-WR-CALNAME:From Mug to Mike
X-ORIGINAL-URL:https://www.frommugtomike.com
X-WR-CALDESC:Events for From Mug to Mike
BEGIN:VTIMEZONE
TZID:Asia/Kolkata
BEGIN:STANDARD
TZOFFSETFROM:+0530
TZOFFSETTO:+0530
TZNAME:IST
DTSTART:20150101T000000
END:STANDARD
END:VTIMEZONE
BEGIN:VEVENT
DTSTART;TZID=Asia/Kolkata:20150613T110000
DTEND;TZID=Asia/Kolkata:20150614T170000
DTSTAMP:20260423T201748
CREATED:20150610T224707Z
LAST-MODIFIED:20150610T224707Z
UID:930-1434193200-1434301200@www.frommugtomike.com
SUMMARY:Bengaluru Auditions
DESCRIPTION:Music auditions in Bengaluru on June 13 & 14.\nThere are four categories of auditions – Singing\, Instrumental\, Lyrics and Band. \nWinners get to perform on World Music Day in Phoenix MarketCity Bangalore in the presence of celebrities from film and music industries.\nTo participate\, contact 9845286308 or mail to FromMugToMike@gmail.com \n
URL:https://www.frommugtomike.com/event/bengaluru-auditions/
LOCATION:Koramangala Club\, CA-17\, 6th Cross\, 6th Block\, Koramangala\, Bengaluru \, Karnataka\, 560095\, India
END:VEVENT
END:VCALENDAR