BEGIN:VCALENDAR
VERSION:2.0
PRODID:-//From Mug to Mike - ECPv5.1.1//NONSGML v1.0//EN
CALSCALE:GREGORIAN
METHOD:PUBLISH
X-WR-CALNAME:From Mug to Mike
X-ORIGINAL-URL:https://www.frommugtomike.com
X-WR-CALDESC:Events for From Mug to Mike
BEGIN:VTIMEZONE
TZID:Asia/Kolkata
BEGIN:STANDARD
TZOFFSETFROM:+0530
TZOFFSETTO:+0530
TZNAME:IST
DTSTART:20140101T000000
END:STANDARD
END:VTIMEZONE
BEGIN:VEVENT
DTSTART;VALUE=DATE:20141018
DTEND;VALUE=DATE:20141020
DTSTAMP:20260423T222607
CREATED:20140919T052615Z
LAST-MODIFIED:20141028T040444Z
UID:477-1413590400-1413763199@www.frommugtomike.com
SUMMARY:From Mug to Mike at Maaya - 14 intercollegiate college fest at PESIT
DESCRIPTION:
URL:https://www.frommugtomike.com/event/from-mug-to-mike-at-maaya-14-intercollegiate-college-fest-at-pesit/
LOCATION:Unnamed Venue\, Bangalore\, Karnataka\, India
END:VEVENT
END:VCALENDAR