BEGIN:VCALENDAR
VERSION:2.0
PRODID:-//From Mug to Mike - ECPv5.1.1//NONSGML v1.0//EN
CALSCALE:GREGORIAN
METHOD:PUBLISH
X-WR-CALNAME:From Mug to Mike
X-ORIGINAL-URL:https://www.frommugtomike.com
X-WR-CALDESC:Events for From Mug to Mike
BEGIN:VTIMEZONE
TZID:UTC
BEGIN:STANDARD
TZOFFSETFROM:+0000
TZOFFSETTO:+0000
TZNAME:UTC
DTSTART:20170101T000000
END:STANDARD
END:VTIMEZONE
BEGIN:VEVENT
DTSTART;TZID=UTC:20171103T170000
DTEND;TZID=UTC:20171103T200000
DTSTAMP:20260423T140523
CREATED:20171102T024516Z
LAST-MODIFIED:20171102T024516Z
UID:1277-1509728400-1509739200@www.frommugtomike.com
SUMMARY:Karunada Thayi - A Musical Celebration
DESCRIPTION:Come and be part of Kannada Rajyotsava Celebrations!\nEntry Free. \n \n
URL:https://www.frommugtomike.com/event/karunada-thayi-a-musical-celebration/
LOCATION:Alliance Francise\, Bengaluru\, 08\, Thimmaiah Road\, Opposite U.N. I Building\, Vasant Nagar\, Bengaluru\, Karnataka\, 560052\, India
END:VEVENT
END:VCALENDAR