BEGIN:VCALENDAR
VERSION:2.0
PRODID:-//From Mug to Mike - ECPv5.1.1//NONSGML v1.0//EN
CALSCALE:GREGORIAN
METHOD:PUBLISH
X-WR-CALNAME:From Mug to Mike
X-ORIGINAL-URL:https://www.frommugtomike.com
X-WR-CALDESC:Events for From Mug to Mike
BEGIN:VTIMEZONE
TZID:Asia/Kolkata
BEGIN:STANDARD
TZOFFSETFROM:+0530
TZOFFSETTO:+0530
TZNAME:IST
DTSTART:20150101T000000
END:STANDARD
END:VTIMEZONE
BEGIN:VEVENT
DTSTART;TZID=Asia/Kolkata:20150412T100000
DTEND;TZID=Asia/Kolkata:20150412T143000
DTSTAMP:20260423T171651
CREATED:20150406T033445Z
LAST-MODIFIED:20150406T033445Z
UID:812-1428832800-1428849000@www.frommugtomike.com
SUMMARY:Level 1 Workshop[BANGALORE]
DESCRIPTION:
URL:https://www.frommugtomike.com/event/level-1-workshopbangalore/
LOCATION:Sa Studio\, Thyagarajnagar\, near Shani Mahatma Temple\, Bangalore\, Karnataka\, India
END:VEVENT
END:VCALENDAR