BEGIN:VCALENDAR
VERSION:2.0
PRODID:-//From Mug to Mike - ECPv5.1.1//NONSGML v1.0//EN
CALSCALE:GREGORIAN
METHOD:PUBLISH
X-WR-CALNAME:From Mug to Mike
X-ORIGINAL-URL:https://www.frommugtomike.com
X-WR-CALDESC:Events for From Mug to Mike
BEGIN:VTIMEZONE
TZID:Asia/Kolkata
BEGIN:STANDARD
TZOFFSETFROM:+0530
TZOFFSETTO:+0530
TZNAME:IST
DTSTART:20140101T000000
END:STANDARD
END:VTIMEZONE
BEGIN:VEVENT
DTSTART;VALUE=DATE:20141026
DTEND;VALUE=DATE:20141027
DTSTAMP:20260423T222504
CREATED:20140919T052654Z
LAST-MODIFIED:20140919T052654Z
UID:478-1414281600-1414367999@www.frommugtomike.com
SUMMARY:Level I workshop - Bangalore
DESCRIPTION:
URL:https://www.frommugtomike.com/event/level-i-workshop-bangalore-2/
LOCATION:Unnamed Venue\, Bangalore\, Karnataka\, India
END:VEVENT
END:VCALENDAR