BEGIN:VCALENDAR
VERSION:2.0
PRODID:-//From Mug to Mike - ECPv5.1.1//NONSGML v1.0//EN
CALSCALE:GREGORIAN
METHOD:PUBLISH
X-WR-CALNAME:From Mug to Mike
X-ORIGINAL-URL:https://www.frommugtomike.com
X-WR-CALDESC:Events for From Mug to Mike
BEGIN:VTIMEZONE
TZID:UTC
BEGIN:STANDARD
TZOFFSETFROM:+0000
TZOFFSETTO:+0000
TZNAME:UTC
DTSTART:20140101T000000
END:STANDARD
END:VTIMEZONE
BEGIN:VEVENT
DTSTART;TZID=UTC:20141116T100000
DTEND;TZID=UTC:20141116T143000
DTSTAMP:20260423T222408
CREATED:20141113T011922Z
LAST-MODIFIED:20180308T015513Z
UID:763-1416132000-1416148200@www.frommugtomike.com
SUMMARY:Level I Workshop - Bangalore
DESCRIPTION: \n
URL:https://www.frommugtomike.com/event/level-i-workshop-bangalore-3/
LOCATION:Sa Studio\, Thyagarajnagar\, near Shani Mahatma Temple\, Bangalore\, Karnataka\, India
ATTACH;FMTTYPE=image/jpeg:https://www.frommugtomike.com/wp-content/uploads/2014/11/November.jpg
END:VEVENT
END:VCALENDAR