BEGIN:VCALENDAR
VERSION:2.0
PRODID:-//From Mug to Mike - ECPv5.1.1//NONSGML v1.0//EN
CALSCALE:GREGORIAN
METHOD:PUBLISH
X-WR-CALNAME:From Mug to Mike
X-ORIGINAL-URL:https://www.frommugtomike.com
X-WR-CALDESC:Events for From Mug to Mike
BEGIN:VTIMEZONE
TZID:Asia/Kolkata
BEGIN:STANDARD
TZOFFSETFROM:+0530
TZOFFSETTO:+0530
TZNAME:IST
DTSTART:20150101T000000
END:STANDARD
END:VTIMEZONE
BEGIN:VEVENT
DTSTART;TZID=Asia/Kolkata:20150201T100000
DTEND;TZID=Asia/Kolkata:20150201T150000
DTSTAMP:20260423T212450
CREATED:20150113T083546Z
LAST-MODIFIED:20150113T083546Z
UID:797-1422784800-1422802800@www.frommugtomike.com
SUMMARY:Level I Workshop [BANGALORE]
DESCRIPTION:Explore secrets of professional singing\, and also get to record in a high end studio! \n
URL:https://www.frommugtomike.com/event/level-i-workshop-bangalore/
LOCATION:Sa Studio\, Thyagarajnagar\, near Shani Mahatma Temple\, Bangalore\, Karnataka\, India
END:VEVENT
END:VCALENDAR