BEGIN:VCALENDAR
VERSION:2.0
PRODID:-//From Mug to Mike - ECPv5.1.1//NONSGML v1.0//EN
CALSCALE:GREGORIAN
METHOD:PUBLISH
X-WR-CALNAME:From Mug to Mike
X-ORIGINAL-URL:https://www.frommugtomike.com
X-WR-CALDESC:Events for From Mug to Mike
BEGIN:VTIMEZONE
TZID:Asia/Kolkata
BEGIN:STANDARD
TZOFFSETFROM:+0530
TZOFFSETTO:+0530
TZNAME:IST
DTSTART:20140101T000000
END:STANDARD
END:VTIMEZONE
BEGIN:VEVENT
DTSTART;VALUE=DATE:20141012
DTEND;VALUE=DATE:20141013
DTSTAMP:20260423T222101
CREATED:20140919T052501Z
LAST-MODIFIED:20140919T052501Z
UID:475-1413072000-1413158399@www.frommugtomike.com
SUMMARY:Level I workshop - Chennai
DESCRIPTION:
URL:https://www.frommugtomike.com/event/level-i-workshop-chennai/
LOCATION:Unnamed Venue\, Chennai\, TamilNadu\, India
END:VEVENT
END:VCALENDAR