BEGIN:VCALENDAR
VERSION:2.0
PRODID:-//From Mug to Mike - ECPv5.1.1//NONSGML v1.0//EN
CALSCALE:GREGORIAN
METHOD:PUBLISH
X-WR-CALNAME:From Mug to Mike
X-ORIGINAL-URL:https://www.frommugtomike.com
X-WR-CALDESC:Events for From Mug to Mike
BEGIN:VTIMEZONE
TZID:Asia/Kolkata
BEGIN:STANDARD
TZOFFSETFROM:+0530
TZOFFSETTO:+0530
TZNAME:IST
DTSTART:20150101T000000
END:STANDARD
END:VTIMEZONE
BEGIN:VEVENT
DTSTART;TZID=Asia/Kolkata:20150705T100000
DTEND;TZID=Asia/Kolkata:20150705T180000
DTSTAMP:20260423T201724
CREATED:20150702T225332Z
LAST-MODIFIED:20150702T225332Z
UID:948-1436090400-1436119200@www.frommugtomike.com
SUMMARY:Level II Workshop[Bangalore]
DESCRIPTION:
URL:https://www.frommugtomike.com/event/level-ii-workshopbangalore-2/
LOCATION:Sa Studio\, Thyagarajnagar\, near Shani Mahatma Temple\, Bangalore\, Karnataka\, India
END:VEVENT
END:VCALENDAR