BEGIN:VCALENDAR
VERSION:2.0
PRODID:-//From Mug to Mike - ECPv5.1.1//NONSGML v1.0//EN
CALSCALE:GREGORIAN
METHOD:PUBLISH
X-WR-CALNAME:From Mug to Mike
X-ORIGINAL-URL:https://www.frommugtomike.com
X-WR-CALDESC:Events for From Mug to Mike
BEGIN:VTIMEZONE
TZID:UTC
BEGIN:STANDARD
TZOFFSETFROM:+0000
TZOFFSETTO:+0000
TZNAME:UTC
DTSTART:20170101T000000
END:STANDARD
END:VTIMEZONE
BEGIN:VEVENT
DTSTART;TZID=UTC:20170122T093000
DTEND;TZID=UTC:20170122T143000
DTSTAMP:20260423T160853
CREATED:20170110T213121Z
LAST-MODIFIED:20170110T213121Z
UID:1155-1485077400-1485095400@www.frommugtomike.com
SUMMARY:Level One Workshop - Bengaluru
DESCRIPTION:What is the workshop all about?\n‘From Mug to Mike’ primer workshop is an introduction to professional singing.\nYou will be introduced to: \n\nThe most important qualities that a professional singer should develop\nTips and tricks of professional singing\nMisconceptions and myths about singing\nProblems that singers generally face while singing\nHow to get over stage fright?\nRecording in a studio – techniques\n\n  \nWhat are the prerequisites? \nOn a lighter note\, the ONLY prerequisite is that you should have sung at least once in the bathroom!This workshop is for anybody who loves to sing. \nIs there an age limit?\nNo\, there is no age limit. We have had participants ranging from 5 to 83! \nChuck the Mug\, Grab the Mike!\nYou will get to record one full song of your choice (without music) in the high end studio.\nYou will also be taught few voice exercises to improve your singing and voice. \nWhat Preparations do I need? \n1) Please come prepared to record a song of your choice (any language) without music. This is to understand your voice better. \n2) Carry the lyrics of the song you wish to record\, if required \n3) A note book and a pen to make notes \n4) A water bottle(and a quick snack\, if required) \nHow Do I sound when I Sing?\nYour recording along with a very detailed analysis of your voice and singing\, highlighting your strengths and identifying the areas for improvement will be emailed to you after the workshop. \nTo Register : Call 7899262262 or email us at FromMugToMike@gmail.com \n
URL:https://www.frommugtomike.com/event/level-one-workshop-bengaluru-5/
LOCATION:Sa Studio
END:VEVENT
END:VCALENDAR