BEGIN:VCALENDAR
VERSION:2.0
PRODID:-//From Mug to Mike - ECPv5.1.1//NONSGML v1.0//EN
CALSCALE:GREGORIAN
METHOD:PUBLISH
X-WR-CALNAME:From Mug to Mike
X-ORIGINAL-URL:https://www.frommugtomike.com
X-WR-CALDESC:Events for From Mug to Mike
BEGIN:VTIMEZONE
TZID:UTC
BEGIN:STANDARD
TZOFFSETFROM:+0000
TZOFFSETTO:+0000
TZNAME:UTC
DTSTART:20170101T000000
END:STANDARD
END:VTIMEZONE
BEGIN:VEVENT
DTSTART;TZID=UTC:20171126T100000
DTEND;TZID=UTC:20171126T160000
DTSTAMP:20260423T145754
CREATED:20171025T122937Z
LAST-MODIFIED:20171025T123504Z
UID:1264-1511690400-1511712000@www.frommugtomike.com
SUMMARY:Mumbai - Bathroom Singers Workshop
DESCRIPTION:Calling all BATHROOM SINGERS in Mumbai !!\n\nThis workshop is open to anyone who Loves to Sing!\n\nAll age groups can participate. You can sing/record a song in any genre and language.\n\nNo prior training required!\n\n‘From Mug to Mike’ primer workshop is an introduction to professional singing.\nYou will be introduced to:\n\n> The most important qualities that a professional singer should develop\n\n> Tips and tricks of professional singing\n\n> Misconceptions and myths about singing\n\n> Problems that singers generally face while singing\n\n> How to get over stage fright?\n\n> Tour of a high-end recording studio\n\n> Recording in a studio and techniques\n\n> Voice Culture techniques\n\n> Voice Analysis\n\n\n\nParticipants will get to record a song of their choice in their voice and analysis of the same.\n\nLot of singing\, lot of fun!\n\nLunch\, tea and snacks will be provided during the workshop.\n\nBook your seat now!\n\nhttp://tinyurl.com/ydyx2w5q\n\nIf you have any questions\, Call us on 7899262262 (or) email: FromMugToMike@gmail.com \n
URL:https://www.frommugtomike.com/event/mumbai-bathroom-singers-workshop/
LOCATION:Shzaam Studios\, Unit no. 5\, Killfire House\, Next to Barbecue Nation\, Near Fun Republic off Link road Andheri West\,\, Mumbai\, Maharashtra\, 400053\, India
END:VEVENT
END:VCALENDAR