BEGIN:VCALENDAR
VERSION:2.0
PRODID:-//From Mug to Mike - ECPv5.1.1//NONSGML v1.0//EN
CALSCALE:GREGORIAN
METHOD:PUBLISH
X-WR-CALNAME:From Mug to Mike
X-ORIGINAL-URL:https://www.frommugtomike.com
X-WR-CALDESC:Events for From Mug to Mike
BEGIN:VTIMEZONE
TZID:UTC
BEGIN:STANDARD
TZOFFSETFROM:+0000
TZOFFSETTO:+0000
TZNAME:UTC
DTSTART:20160101T000000
END:STANDARD
END:VTIMEZONE
BEGIN:VEVENT
DTSTART;TZID=UTC:20160731T100000
DTEND;TZID=UTC:20160731T170000
DTSTAMP:20260423T145454
CREATED:20160704T085218Z
LAST-MODIFIED:20160704T085218Z
UID:1083-1469959200-1469984400@www.frommugtomike.com
SUMMARY:Playback Singer Workshop - July 31\, 2016 in Chennai
DESCRIPTION:Playback Singer Workshop by Dr.K.Krishnakumar and Sunil Koshy on July 31\, 2016 in Chennai .  \nFor details call/whatsapp 07899262262 or email FromMugToMike@gmail.com \nAre you curious to know: \n\nWhat a singer needs?  – A Music Director’s Perspective\nHow to develop singing in different genres/styles?\nWhat is voice culture?\nHow is a new song composed?\nHow advanced technology helps in modern film recordings?\nCurrent trend in playback singing and opportunities\n\nThis workshop will answer most of your questions and help you get a deeper insight into what really is required to get a break and make it BIG! \nYou will get to record one full song of your choice (without music) in the high end studio.\n \nWho can attend? \n\nThis workshop is aimed at very passionate singers who would like to explore professional singing and get a glimpse into what happens in the mainstream music industry.\nOther singers who would like to understand more about singing will also greatly benefit from this workshop.\n\nNO Prior Training required! \nAs a part of this special workshop\, From Mug to Mike is inviting Dr K Krishnakumar\, who will speak to the participants on playback singing. \nDr. K Krishnakumar is a Carnatic Vocal Musician\, Music Composer\, Playback Singer\, Music Educationalist\, Musicologist with Ph.D in Indian Music.He is the prime student of Padmavibhushan Dr. M. Balamuralikrishna\, and has been giving his Guruji vocal support for many of his recent concerts.He is the winner of many prestigious awards the latest ones being the title ‘Kalashri’ with the Kerala Sangeetha Nataka Academy Award 2012\, Aasthana Vidwan\, and many others.He has composed over 40 albums for top playback singer KS Chitra and worked with many leading music directors including Vidyasagar. \nLunch will be provided. \nFAQs\n\n\n\nhttp://www.frommugtomike.com/faqs-about-the-workshop/\n\n\n
URL:https://www.frommugtomike.com/event/playback-singer-workshop-july-31-2016-in-chennai/
LOCATION:Krishna DigiDesign Studio\,   No. 37\, Sathya Murthy St\,  Devaraj Nagar\, Saligramam\,\, Chennai\, India
END:VEVENT
END:VCALENDAR