BEGIN:VCALENDAR
VERSION:2.0
PRODID:-//From Mug to Mike - ECPv5.1.1//NONSGML v1.0//EN
CALSCALE:GREGORIAN
METHOD:PUBLISH
X-WR-CALNAME:From Mug to Mike
X-ORIGINAL-URL:https://www.frommugtomike.com
X-WR-CALDESC:Events for From Mug to Mike
BEGIN:VTIMEZONE
TZID:UTC
BEGIN:STANDARD
TZOFFSETFROM:+0000
TZOFFSETTO:+0000
TZNAME:UTC
DTSTART:20170101T000000
END:STANDARD
END:VTIMEZONE
BEGIN:VEVENT
DTSTART;TZID=UTC:20171013T180000
DTEND;TZID=UTC:20171013T190000
DTSTAMP:20260423T135312
CREATED:20171012T225612Z
LAST-MODIFIED:20171012T232141Z
UID:1233-1507917600-1507921200@www.frommugtomike.com
SUMMARY:Romance with Kishoreda - A Tribute | Online Music Video Release
DESCRIPTION:We welcome you to the online music video release of Venkat S who is a business head. Venkat is a die- ard fan of Kishore da and has grown up humming the ever green melodies like most of us. \n \nToday is the legends 30 th death anniversary. We bow down to the genius and present our humble tribute. \nThe video will be out on our channel : www.youtube.com/FromMugToMike \nDo listen and share. \n
URL:https://www.frommugtomike.com/event/romance-with-kishoreda-a-tribute/
END:VEVENT
END:VCALENDAR