BEGIN:VCALENDAR
VERSION:2.0
PRODID:-//From Mug to Mike - ECPv5.1.1//NONSGML v1.0//EN
CALSCALE:GREGORIAN
METHOD:PUBLISH
X-WR-CALNAME:From Mug to Mike
X-ORIGINAL-URL:https://www.frommugtomike.com
X-WR-CALDESC:Events for From Mug to Mike
BEGIN:VTIMEZONE
TZID:UTC
BEGIN:STANDARD
TZOFFSETFROM:+0000
TZOFFSETTO:+0000
TZNAME:UTC
DTSTART:20170101T000000
END:STANDARD
END:VTIMEZONE
BEGIN:VEVENT
DTSTART;TZID=UTC:20170212T160000
DTEND;TZID=UTC:20170212T200000
DTSTAMP:20260423T145555
CREATED:20170209T124129Z
LAST-MODIFIED:20170209T124314Z
UID:1162-1486915200-1486929600@www.frommugtomike.com
SUMMARY:Season 5 - The Grand Stage Show
DESCRIPTION:You simply can’t MISS THIS!!\n \n
URL:https://www.frommugtomike.com/event/season-5-the-grand-stage-show/
END:VEVENT
END:VCALENDAR