BEGIN:VCALENDAR
VERSION:2.0
PRODID:-//From Mug to Mike - ECPv5.1.1//NONSGML v1.0//EN
CALSCALE:GREGORIAN
METHOD:PUBLISH
X-WR-CALNAME:From Mug to Mike
X-ORIGINAL-URL:https://www.frommugtomike.com
X-WR-CALDESC:Events for From Mug to Mike
BEGIN:VTIMEZONE
TZID:UTC
BEGIN:STANDARD
TZOFFSETFROM:+0000
TZOFFSETTO:+0000
TZNAME:UTC
DTSTART:20170101T000000
END:STANDARD
END:VTIMEZONE
BEGIN:VEVENT
DTSTART;TZID=UTC:20171029T100000
DTEND;TZID=UTC:20171029T160000
DTSTAMP:20260423T134835
CREATED:20171025T101821Z
LAST-MODIFIED:20171025T103540Z
UID:1253-1509271200-1509292800@www.frommugtomike.com
SUMMARY:Sing Like a Pro *
DESCRIPTION:Sing Like a Pro with the Right Practice! \n \nThis workshop is open to all who have completed Bathroom Singers Workshop ( Level One)\nIn this workshop\, you will learn how to culture your voice and work on your improvement areas.\n\n\n\n• This training will cover specific areas like stamina\, breath control\, range\, precision of notes\, grasping tricky notes\, expression\n\n• You will be taught how to practice each exercise the right way and how to develop a practice regimen\n\n• You will also get to record one song with karaoke in the studio during this workshop \nTo participate call on 7899262262 (or) send an email to – FromMugToMike@gmail.com\n \n  \n
URL:https://www.frommugtomike.com/event/sing-like-a-pro/
LOCATION:Vijaya Audios\, No. 52\, Shankara Park\, Ranga Rao Road\, Bengaluru\, \, Karnataka\, India
END:VEVENT
END:VCALENDAR