BEGIN:VCALENDAR
VERSION:2.0
PRODID:-//From Mug to Mike - ECPv5.1.1//NONSGML v1.0//EN
CALSCALE:GREGORIAN
METHOD:PUBLISH
X-WR-CALNAME:From Mug to Mike
X-ORIGINAL-URL:https://www.frommugtomike.com
X-WR-CALDESC:Events for From Mug to Mike
BEGIN:VTIMEZONE
TZID:Asia/Kolkata
BEGIN:STANDARD
TZOFFSETFROM:+0530
TZOFFSETTO:+0530
TZNAME:IST
DTSTART:20150101T000000
END:STANDARD
END:VTIMEZONE
BEGIN:VEVENT
DTSTART;TZID=Asia/Kolkata:20150724T090000
DTEND;TZID=Asia/Kolkata:20150724T170000
DTSTAMP:20260423T190421
CREATED:20150713T093343Z
LAST-MODIFIED:20150713T093359Z
UID:951-1437728400-1437757200@www.frommugtomike.com
SUMMARY:Singing with the Legend - A Workshop with Padmashri Hariharan
DESCRIPTION:Singing with the legend is a workshop conducted by Padmashri Hariharan and Sunil Koshy. \nThis is a once in a lifetime opportunity to interact and learn from the legend Padmashri Hariharan and learn more about his musical journey! \nBook your tickets: \nhttp://in.bookmyshow.com/events/singing-with-the-legend-a-workshop-with-hariharan/ET00032149 \n
URL:https://www.frommugtomike.com/event/singing-with-the-legend-a-workshop-with-padmashri-hariharan/
END:VEVENT
END:VCALENDAR