BEGIN:VCALENDAR
VERSION:2.0
PRODID:-//From Mug to Mike - ECPv5.1.1//NONSGML v1.0//EN
CALSCALE:GREGORIAN
METHOD:PUBLISH
X-WR-CALNAME:From Mug to Mike
X-ORIGINAL-URL:https://www.frommugtomike.com
X-WR-CALDESC:Events for From Mug to Mike
BEGIN:VTIMEZONE
TZID:Asia/Kolkata
BEGIN:STANDARD
TZOFFSETFROM:+0530
TZOFFSETTO:+0530
TZNAME:IST
DTSTART:20150101T000000
END:STANDARD
END:VTIMEZONE
BEGIN:VEVENT
DTSTART;TZID=Asia/Kolkata:20150510T103000
DTEND;TZID=Asia/Kolkata:20150510T143000
DTSTAMP:20260423T144529
CREATED:20150506T004215Z
LAST-MODIFIED:20150506T004937Z
UID:817-1431253800-1431268200@www.frommugtomike.com
SUMMARY:Special Level I Workshop
DESCRIPTION: \n
URL:https://www.frommugtomike.com/event/special-level-i-workshop/
LOCATION:All India Radio\, Rajbhavan Road\, Bangalore\, 560094
ORGANIZER;CN="From%20mug%20to%20mike":MAILTO:frommugtomike@gmail.com
END:VEVENT
END:VCALENDAR