BEGIN:VCALENDAR
VERSION:2.0
PRODID:-//From Mug to Mike - ECPv5.1.1//NONSGML v1.0//EN
CALSCALE:GREGORIAN
METHOD:PUBLISH
X-WR-CALNAME:From Mug to Mike
X-ORIGINAL-URL:https://www.frommugtomike.com
X-WR-CALDESC:Events for From Mug to Mike
BEGIN:VTIMEZONE
TZID:Asia/Kolkata
BEGIN:STANDARD
TZOFFSETFROM:+0530
TZOFFSETTO:+0530
TZNAME:IST
DTSTART:20150101T000000
END:STANDARD
END:VTIMEZONE
BEGIN:VEVENT
DTSTART;TZID=Asia/Kolkata:20150510T150000
DTEND;TZID=Asia/Kolkata:20150510T170000
DTSTAMP:20260423T160236
CREATED:20150506T004407Z
LAST-MODIFIED:20150506T004407Z
UID:821-1431270000-1431277200@www.frommugtomike.com
SUMMARY:Special Riyaaz Workshop
DESCRIPTION:This Riyaaz workshop\, record a song and dedicate it to your Mother! Happening in the legendary All India Radio! \n
URL:https://www.frommugtomike.com/event/special-riyaaz-workshop/
LOCATION:All India Radio\, Rajbhavan Road\, Bangalore\, 560094
END:VEVENT
END:VCALENDAR