BEGIN:VCALENDAR
VERSION:2.0
PRODID:-//From Mug to Mike - ECPv5.1.1//NONSGML v1.0//EN
CALSCALE:GREGORIAN
METHOD:PUBLISH
X-WR-CALNAME:From Mug to Mike
X-ORIGINAL-URL:https://www.frommugtomike.com
X-WR-CALDESC:Events for From Mug to Mike
BEGIN:VTIMEZONE
TZID:Asia/Kolkata
BEGIN:STANDARD
TZOFFSETFROM:+0530
TZOFFSETTO:+0530
TZNAME:IST
DTSTART:20150101T000000
END:STANDARD
END:VTIMEZONE
BEGIN:VEVENT
DTSTART;TZID=Asia/Kolkata:20150315T100000
DTEND;TZID=Asia/Kolkata:20150315T140000
DTSTAMP:20260423T212113
CREATED:20150226T234503Z
LAST-MODIFIED:20150226T234503Z
UID:805-1426413600-1426428000@www.frommugtomike.com
SUMMARY:The Playback Singer Workshop
DESCRIPTION:The Playback Singer workshop is aimed at very passionate singers who would like to explore professional singing and get a glimpse into what happens in the mainstream music industry.\nOther singers who would like to understand more about singing will also greatly benefit from this workshop. \nWhat a singer needs?  – A Music Director’s Perspective\nHow to develop singing different in genres/styles?\nWhat is voice culture?\nHow is a new song composed?\nHow advanced technology helps in modern film recordings?\nCurrent trend in playback singing and opportunities \n
URL:https://www.frommugtomike.com/event/the-playback-singer-workshop/
LOCATION:Sa Studio\, Thyagarajnagar\, near Shani Mahatma Temple\, Bangalore\, Karnataka\, India
END:VEVENT
END:VCALENDAR