BEGIN:VCALENDAR
VERSION:2.0
PRODID:-//From Mug to Mike - ECPv5.1.1//NONSGML v1.0//EN
CALSCALE:GREGORIAN
METHOD:PUBLISH
X-WR-CALNAME:From Mug to Mike
X-ORIGINAL-URL:https://www.frommugtomike.com
X-WR-CALDESC:Events for From Mug to Mike
BEGIN:VTIMEZONE
TZID:Asia/Kolkata
BEGIN:STANDARD
TZOFFSETFROM:+0530
TZOFFSETTO:+0530
TZNAME:IST
DTSTART:20140101T000000
END:STANDARD
END:VTIMEZONE
BEGIN:VEVENT
DTSTART;VALUE=DATE:20141004
DTEND;VALUE=DATE:20141005
DTSTAMP:20260423T234541
CREATED:20140919T052248Z
LAST-MODIFIED:20141028T040157Z
UID:472-1412380800-1412467199@www.frommugtomike.com
SUMMARY:Vijayadashami Celebrations at SV Metro Station
DESCRIPTION:
URL:https://www.frommugtomike.com/event/vijayadashami-celebrations-at-sv-metro-station/
END:VEVENT
END:VCALENDAR